BEGIN:VCALENDAR
VERSION:2.0
PRODID:-//wp-events-plugin.com//7.2.3.1//EN
TZID:America/New_York
X-WR-TIMEZONE:America/New_York
BEGIN:VEVENT
UID:1817@floridasportscards.com
DTSTART;TZID=America/New_York:20260221T160000
DTEND;TZID=America/New_York:20260221T200000
DTSTAMP:20260218T040218Z
URL:https://floridasportscards.com/events/topps-rip-night-at-baseball-card
 -clubhouse-tampa/
SUMMARY:Topps Rip Night at Baseball Card Clubhouse - Tampa
DESCRIPTION:Topps Rip Night at Baseball Card Clubhouse in Tampa\, FL
ATTACH;FMTTYPE=image/jpeg:https://floridasportscards.com/wp-content/upload
 s/2026/02/0221-Baseball-Card-Clubhouse-Lineup.webp
CATEGORIES:In-Store Event
LOCATION:Baseball Card Clubhouse\, 2225 S Dale Mabry Hwy\, Tampa\, FL\, Uni
 ted States
X-APPLE-STRUCTURED-LOCATION;VALUE=URI;X-ADDRESS=2225 S Dale Mabry Hwy\, Tam
 pa\, FL\, United States;X-APPLE-RADIUS=100;X-TITLE=Baseball Card Clubhouse
 :geo:0,0
END:VEVENT
BEGIN:VTIMEZONE
TZID:America/New_York
X-LIC-LOCATION:America/New_York
BEGIN:STANDARD
DTSTART:20251102T010000
TZOFFSETFROM:-0400
TZOFFSETTO:-0500
TZNAME:EST
END:STANDARD
END:VTIMEZONE
END:VCALENDAR