BEGIN:VCALENDAR
VERSION:2.0
PRODID:-//wp-events-plugin.com//7.2.3.1//EN
TZID:America/New_York
X-WR-TIMEZONE:America/New_York
BEGIN:VEVENT
UID:1865@floridasportscards.com
DTSTART;TZID=America/New_York:20260221T190000
DTEND;TZID=America/New_York:20260221T220000
DTSTAMP:20260219T231806Z
URL:https://floridasportscards.com/events/topps-rip-night-at-boca-sports-c
 ards-boca-raton/
SUMMARY:Topps Rip Night at Boca Sports Cards - Boca Raton
DESCRIPTION:
ATTACH;FMTTYPE=image/jpeg:https://floridasportscards.com/wp-content/upload
 s/2026/02/0221-Boca-Sports-Cards.webp
CATEGORIES:In-Store Event
LOCATION:Boca Sports Cards\, 9825 Marina Blvd Suite 400\, Boca Raton\, FL\,
  33428\, United States
X-APPLE-STRUCTURED-LOCATION;VALUE=URI;X-ADDRESS=9825 Marina Blvd Suite 400\
 , Boca Raton\, FL\, 33428\, United States;X-APPLE-RADIUS=100;X-TITLE=Boca 
 Sports Cards:geo:0,0
END:VEVENT
BEGIN:VTIMEZONE
TZID:America/New_York
X-LIC-LOCATION:America/New_York
BEGIN:STANDARD
DTSTART:20251102T010000
TZOFFSETFROM:-0400
TZOFFSETTO:-0500
TZNAME:EST
END:STANDARD
END:VTIMEZONE
END:VCALENDAR