BEGIN:VCALENDAR
VERSION:2.0
PRODID:-//wp-events-plugin.com//7.2.3.1//EN
TZID:America/New_York
X-WR-TIMEZONE:America/New_York
BEGIN:VEVENT
UID:1845@floridasportscards.com
DTSTART;TZID=America/New_York;VALUE=DATE:20260221
DTEND;TZID=America/New_York;VALUE=DATE:20260222
DTSTAMP:20260212T222155Z
URL:https://floridasportscards.com/events/topps-rip-night-at-cognizant-car
 ds-pembroke-pines/
SUMMARY:Topps Rip Night at Cognizant Cards - Pembroke Pines
DESCRIPTION:
ATTACH;FMTTYPE=image/jpeg:https://floridasportscards.com/wp-content/upload
 s/2026/02/0221-Cognizant-Cards.jpg
CATEGORIES:In-Store Event
LOCATION:Cognizant Cards & Collectibles - Pembroke Pines\, 10350 Pines Blvd
 \, D110\, Pembroke Pines\, FL\, 33026\, United States
X-APPLE-STRUCTURED-LOCATION;VALUE=URI;X-ADDRESS=10350 Pines Blvd\, D110\, P
 embroke Pines\, FL\, 33026\, United States;X-APPLE-RADIUS=100;X-TITLE=Cogn
 izant Cards & Collectibles - Pembroke Pines:geo:0,0
END:VEVENT
BEGIN:VTIMEZONE
TZID:America/New_York
X-LIC-LOCATION:America/New_York
BEGIN:STANDARD
DTSTART:20251102T010000
TZOFFSETFROM:-0400
TZOFFSETTO:-0500
TZNAME:EST
END:STANDARD
END:VTIMEZONE
END:VCALENDAR