BEGIN:VCALENDAR
VERSION:2.0
PRODID:-//wp-events-plugin.com//7.2.3.1//EN
TZID:America/New_York
X-WR-TIMEZONE:America/New_York
BEGIN:VEVENT
UID:1813@floridasportscards.com
DTSTART;TZID=America/New_York:20260221T170000
DTEND;TZID=America/New_York:20260221T200000
DTSTAMP:20260212T192034Z
URL:https://floridasportscards.com/events/topps-rip-night-at-dick-janes-ja
 cksonville/
SUMMARY:Topps Rip Night at Dick & Jane's - Jacksonville
DESCRIPTION:Topps Hobby Rip Night at Dick & Jane's in Jacksonville\, FL
ATTACH;FMTTYPE=image/jpeg:https://floridasportscards.com/wp-content/upload
 s/2026/02/0221-Dick-and-Jane.jpg
CATEGORIES:In-Store Event
LOCATION:Dick & Jane's\, 1833 Dean Rd\, Jacksonville\, FL\, 32216\, United 
 States
X-APPLE-STRUCTURED-LOCATION;VALUE=URI;X-ADDRESS=1833 Dean Rd\, Jacksonville
 \, FL\, 32216\, United States;X-APPLE-RADIUS=100;X-TITLE=Dick & Jane's:geo
 :0,0
END:VEVENT
BEGIN:VTIMEZONE
TZID:America/New_York
X-LIC-LOCATION:America/New_York
BEGIN:STANDARD
DTSTART:20251102T010000
TZOFFSETFROM:-0400
TZOFFSETTO:-0500
TZNAME:EST
END:STANDARD
END:VTIMEZONE
END:VCALENDAR