BEGIN:VCALENDAR
VERSION:2.0
PRODID:-//wp-events-plugin.com//7.2.3.1//EN
TZID:America/New_York
X-WR-TIMEZONE:America/New_York
BEGIN:VEVENT
UID:1859@floridasportscards.com
DTSTART;TZID=America/New_York;VALUE=DATE:20260221
DTEND;TZID=America/New_York;VALUE=DATE:20260222
DTSTAMP:20260218T041826Z
URL:https://floridasportscards.com/events/topps-rip-night-at-game-time-car
 dz-winter-park/
SUMMARY:Topps Rip Night at Game Time Cardz - Winter Park
DESCRIPTION:GET READY TO RIP &amp\; ROAR!This Saturday\, February 21st\, Ga
 me Time Cardz is THE place to be! Our Topps Rip Night is going to be EPIC\
 , and we’re bringing the HEAT with SIX HUGE WWE SUPERSTARS!But that’s 
 not all! We’re talking:•FREE Topps packs for EVERY ATTENDEE!•Delicio
 us food to fuel your ripping frenzy!•Giveaways galore!Non-stop excitemen
 t and the chance to hang with fellow collectors!This is a Rip Night you WO
 N’T want to miss! Doors open at 9:30AM. Get here early\, grab your free 
 pack\, and prepare for a weekend of wrestling and card-ripping madness! Se
 e you there!
ATTACH;FMTTYPE=image/jpeg:https://floridasportscards.com/wp-content/upload
 s/2026/02/0221-Game-Time-Cardz.webp
CATEGORIES:In-Store Event
LOCATION:Game Time Cardz\, 7414 University Blvd\, Suite 112\, Winter Park\,
  FL\, 32792\, United States
X-APPLE-STRUCTURED-LOCATION;VALUE=URI;X-ADDRESS=7414 University Blvd\, Suit
 e 112\, Winter Park\, FL\, 32792\, United States;X-APPLE-RADIUS=100;X-TITL
 E=Game Time Cardz:geo:0,0
END:VEVENT
BEGIN:VTIMEZONE
TZID:America/New_York
X-LIC-LOCATION:America/New_York
BEGIN:STANDARD
DTSTART:20251102T010000
TZOFFSETFROM:-0400
TZOFFSETTO:-0500
TZNAME:EST
END:STANDARD
END:VTIMEZONE
END:VCALENDAR