BEGIN:VCALENDAR
VERSION:2.0
PRODID:-//wp-events-plugin.com//7.2.3.1//EN
TZID:America/New_York
X-WR-TIMEZONE:America/New_York
BEGIN:VEVENT
UID:1834@floridasportscards.com
DTSTART;TZID=America/New_York;VALUE=DATE:20260221
DTEND;TZID=America/New_York;VALUE=DATE:20260222
DTSTAMP:20260218T035525Z
URL:https://floridasportscards.com/events/topps-rip-night-at-jp-sports-car
 ds-cape-coral/
SUMMARY:Topps Rip Night at JP Sports Cards - Cape Coral
DESCRIPTION:Topps Hobby Rip Night at JP Sports Cards in Cape Coral
ATTACH;FMTTYPE=image/jpeg:https://floridasportscards.com/wp-content/upload
 s/2026/02/0221-JPs.webp
CATEGORIES:In-Store Event
LOCATION:JP Sports\, 2323 Del Prado Blvd S Suite #10\, Cape Coral\, FL\, 33
 990\, United States
X-APPLE-STRUCTURED-LOCATION;VALUE=URI;X-ADDRESS=2323 Del Prado Blvd S Suite
  #10\, Cape Coral\, FL\, 33990\, United States;X-APPLE-RADIUS=100;X-TITLE=
 JP Sports:geo:0,0
END:VEVENT
BEGIN:VTIMEZONE
TZID:America/New_York
X-LIC-LOCATION:America/New_York
BEGIN:STANDARD
DTSTART:20251102T010000
TZOFFSETFROM:-0400
TZOFFSETTO:-0500
TZNAME:EST
END:STANDARD
END:VTIMEZONE
END:VCALENDAR