BEGIN:VCALENDAR
VERSION:2.0
PRODID:-//wp-events-plugin.com//7.2.3.1//EN
TZID:America/New_York
X-WR-TIMEZONE:America/New_York
BEGIN:VEVENT
UID:1847@floridasportscards.com
DTSTART;TZID=America/New_York:20260221T140000
DTEND;TZID=America/New_York:20260221T180000
DTSTAMP:20260219T230856Z
URL:https://floridasportscards.com/events/topps-rip-night-at-layton-sports
 -cards-altamonte-springs/
SUMMARY:Topps Rip Night at Layton Sports Cards w/ Alexa Bliss - Altamonte S
 prings
DESCRIPTION:Topps Rip Night at Layton Sports Cards in Altamonte Springs\, F
 L
ATTACH;FMTTYPE=image/jpeg:https://floridasportscards.com/wp-content/upload
 s/2026/02/Screenshot-2026-02-19-at-18-07-41-Facebook.webp
CATEGORIES:In-Store Event
LOCATION:Layton Sports Cards\, 130 E Altamonte Dr\, Unit 1100\, Altamonte S
 prings\, FL\, 32701\, United States
X-APPLE-STRUCTURED-LOCATION;VALUE=URI;X-ADDRESS=130 E Altamonte Dr\, Unit 1
 100\, Altamonte Springs\, FL\, 32701\, United States;X-APPLE-RADIUS=100;X-
 TITLE=Layton Sports Cards:geo:0,0
END:VEVENT
BEGIN:VTIMEZONE
TZID:America/New_York
X-LIC-LOCATION:America/New_York
BEGIN:STANDARD
DTSTART:20251102T010000
TZOFFSETFROM:-0400
TZOFFSETTO:-0500
TZNAME:EST
END:STANDARD
END:VTIMEZONE
END:VCALENDAR