BEGIN:VCALENDAR
VERSION:2.0
PRODID:-//wp-events-plugin.com//7.2.3.1//EN
TZID:America/New_York
X-WR-TIMEZONE:America/New_York
BEGIN:VEVENT
UID:1806@floridasportscards.com
DTSTART;TZID=America/New_York:20260221T170000
DTEND;TZID=America/New_York:20260221T200000
DTSTAMP:20260205T034359Z
URL:https://floridasportscards.com/events/topps-rip-night-at-luckiest-man-
 sports-cards-orange-park/
SUMMARY:Topps Rip Night at Luckiest Man Sports Cards - Orange Park
DESCRIPTION:Check out their website here\n\n&nbsp\;
ATTACH;FMTTYPE=image/jpeg:https://floridasportscards.com/wp-content/upload
 s/2026/02/0221-Luckiest-Man-Topps.webp
CATEGORIES:In-Store Event
LOCATION:Luckiest Man Sports Cards\, 179 College Dr. Ste 14\, Orange Park\,
  FL\, 32065\, United States
X-APPLE-STRUCTURED-LOCATION;VALUE=URI;X-ADDRESS=179 College Dr. Ste 14\, Or
 ange Park\, FL\, 32065\, United States;X-APPLE-RADIUS=100;X-TITLE=Luckiest
  Man Sports Cards:geo:0,0
END:VEVENT
BEGIN:VTIMEZONE
TZID:America/New_York
X-LIC-LOCATION:America/New_York
BEGIN:STANDARD
DTSTART:20251102T010000
TZOFFSETFROM:-0400
TZOFFSETTO:-0500
TZNAME:EST
END:STANDARD
END:VTIMEZONE
END:VCALENDAR