BEGIN:VCALENDAR
VERSION:2.0
PRODID:-//wp-events-plugin.com//7.2.3.1//EN
TZID:America/New_York
X-WR-TIMEZONE:America/New_York
BEGIN:VEVENT
UID:1841@floridasportscards.com
DTSTART;TZID=America/New_York:20260221T160000
DTEND;TZID=America/New_York:20260221T190000
DTSTAMP:20260212T221048Z
URL:https://floridasportscards.com/events/topps-rip-night-at-shortstops-sp
 orts-cards-games-palm-harbor/
SUMMARY:Topps Rip Night at Shortstops Sports Cards & Games - Palm Harbor
DESCRIPTION:Topps Hobby Rip Night at Shortstops Sports Cards in Palm Harbor
 \, FL
ATTACH;FMTTYPE=image/jpeg:https://floridasportscards.com/wp-content/upload
 s/2026/02/0221-Shortstops.webp
CATEGORIES:In-Store Event
LOCATION:Shortstops Sports Cards & Games\, 34294 US Hwy 19 N\, Palm Harbor\
 , FL\, 34684\, United States
X-APPLE-STRUCTURED-LOCATION;VALUE=URI;X-ADDRESS=34294 US Hwy 19 N\, Palm Ha
 rbor\, FL\, 34684\, United States;X-APPLE-RADIUS=100;X-TITLE=Shortstops Sp
 orts Cards & Games:geo:0,0
END:VEVENT
BEGIN:VTIMEZONE
TZID:America/New_York
X-LIC-LOCATION:America/New_York
BEGIN:STANDARD
DTSTART:20251102T010000
TZOFFSETFROM:-0400
TZOFFSETTO:-0500
TZNAME:EST
END:STANDARD
END:VTIMEZONE
END:VCALENDAR