BEGIN:VCALENDAR
VERSION:2.0
PRODID:-//wp-events-plugin.com//7.2.3.1//EN
TZID:America/New_York
X-WR-TIMEZONE:America/New_York
BEGIN:VEVENT
UID:1858@floridasportscards.com
DTSTART;TZID=America/New_York:20260221T160000
DTEND;TZID=America/New_York:20260221T190000
DTSTAMP:20260218T041411Z
URL:https://floridasportscards.com/events/topps-rip-night-at-the-meelypops
 -shop-gainesville/
SUMMARY:Topps Rip Night at The Meelypops Shop - Gainesville
DESCRIPTION:
ATTACH;FMTTYPE=image/jpeg:https://floridasportscards.com/wp-content/upload
 s/2026/02/0221-Meelypops.webp
CATEGORIES:In-Store Event
LOCATION:The Meelypops Shop\, 3700 NW 91st St Suite e-100\, Gainesville\, F
 L\, 32606\, United States
X-APPLE-STRUCTURED-LOCATION;VALUE=URI;X-ADDRESS=3700 NW 91st St Suite e-100
 \, Gainesville\, FL\, 32606\, United States;X-APPLE-RADIUS=100;X-TITLE=The
  Meelypops Shop:geo:0,0
END:VEVENT
BEGIN:VTIMEZONE
TZID:America/New_York
X-LIC-LOCATION:America/New_York
BEGIN:STANDARD
DTSTART:20251102T010000
TZOFFSETFROM:-0400
TZOFFSETTO:-0500
TZNAME:EST
END:STANDARD
END:VTIMEZONE
END:VCALENDAR