BEGIN:VCALENDAR
VERSION:2.0
PRODID:-//wp-events-plugin.com//7.2.3.1//EN
TZID:America/New_York
X-WR-TIMEZONE:America/New_York
BEGIN:VEVENT
UID:1854@floridasportscards.com
DTSTART;TZID=America/New_York:20260221T180000
DTEND;TZID=America/New_York:20260221T180000
DTSTAMP:20260218T034248Z
URL:https://floridasportscards.com/events/topps-rip-night-at-waxxed-sports
 -cards-clearwater/
SUMMARY:Topps Rip Night at Waxxed Sports Cards - Clearwater
DESCRIPTION:
ATTACH;FMTTYPE=image/jpeg:https://floridasportscards.com/wp-content/upload
 s/2026/02/0221-Kirk.webp
CATEGORIES:In-Store Event
LOCATION:Waxxed Sports Cards - Clearwater\, 4038 Mandalay Ave\, Clearwater\
 , FL\, 33767\, United States
X-APPLE-STRUCTURED-LOCATION;VALUE=URI;X-ADDRESS=4038 Mandalay Ave\, Clearwa
 ter\, FL\, 33767\, United States;X-APPLE-RADIUS=100;X-TITLE=Waxxed Sports 
 Cards - Clearwater:geo:0,0
END:VEVENT
BEGIN:VTIMEZONE
TZID:America/New_York
X-LIC-LOCATION:America/New_York
BEGIN:STANDARD
DTSTART:20251102T010000
TZOFFSETFROM:-0400
TZOFFSETTO:-0500
TZNAME:EST
END:STANDARD
END:VTIMEZONE
END:VCALENDAR