BEGIN:VCALENDAR
VERSION:2.0
PRODID:-//wp-events-plugin.com//7.2.3.1//EN
TZID:America/New_York
X-WR-TIMEZONE:America/New_York
BEGIN:VEVENT
UID:1815@floridasportscards.com
DTSTART;TZID=America/New_York:20260221T120000
DTEND;TZID=America/New_York:20260221T120000
DTSTAMP:20260218T031659Z
URL:https://floridasportscards.com/events/topps-rip-night-at-world-champio
 n-sports-cards-west-palm-beach/
SUMMARY:Topps Rip Night at World Champion Sports Cards - West Palm Beach
DESCRIPTION:Topps Hobby Rip Night at World Champion Sports Cards in West Pa
 lm Beach
ATTACH;FMTTYPE=image/jpeg:https://floridasportscards.com/wp-content/upload
 s/2026/02/0221-World-Champion-RIp-Night-Lineup.webp
CATEGORIES:In-Store Event
LOCATION:World Champion Sports Cards\, 8170 Okeechobee Blvd\, Suite 3\, Wes
 t Palm Beach\, FL\, 33411\, United States
X-APPLE-STRUCTURED-LOCATION;VALUE=URI;X-ADDRESS=8170 Okeechobee Blvd\, Suit
 e 3\, West Palm Beach\, FL\, 33411\, United States;X-APPLE-RADIUS=100;X-TI
 TLE=World Champion Sports Cards:geo:0,0
END:VEVENT
BEGIN:VTIMEZONE
TZID:America/New_York
X-LIC-LOCATION:America/New_York
BEGIN:STANDARD
DTSTART:20251102T010000
TZOFFSETFROM:-0400
TZOFFSETTO:-0500
TZNAME:EST
END:STANDARD
END:VTIMEZONE
END:VCALENDAR