BEGIN:VCALENDAR
VERSION:2.0
PRODID:-//wp-events-plugin.com//7.2.3.1//EN
TZID:America/New_York
X-WR-TIMEZONE:America/New_York
BEGIN:VEVENT
UID:1809@floridasportscards.com
DTSTART;TZID=America/New_York:20260221T110000
DTEND;TZID=America/New_York:20260221T190000
DTSTAMP:20260206T041258Z
URL:https://floridasportscards.com/events/topps-rip-night-presented-by-sho
 wtime-sports-cards-jacksonville/
SUMMARY:Topps Rip Night:  Presented by Showtime Sports Cards - Jacksonville
DESCRIPTION:Trade Night presented by Showtime Sports Cards at Vystar Stadiu
 m in Jacksonville\, FL
ATTACH;FMTTYPE=image/jpeg:https://floridasportscards.com/wp-content/upload
 s/2026/02/0221-Jax-Topps-Rip.webp
CATEGORIES:In-Store Event
LOCATION:Vystar Ballpark\, 301 A Philip Randolph Blvd\, Jacksonville\, FL\,
  32202\, United States
X-APPLE-STRUCTURED-LOCATION;VALUE=URI;X-ADDRESS=301 A Philip Randolph Blvd\
 , Jacksonville\, FL\, 32202\, United States;X-APPLE-RADIUS=100;X-TITLE=Vys
 tar Ballpark:geo:0,0
END:VEVENT
BEGIN:VTIMEZONE
TZID:America/New_York
X-LIC-LOCATION:America/New_York
BEGIN:STANDARD
DTSTART:20251102T010000
TZOFFSETFROM:-0400
TZOFFSETTO:-0500
TZNAME:EST
END:STANDARD
END:VTIMEZONE
END:VCALENDAR