BEGIN:VCALENDAR
VERSION:2.0
PRODID:-//wp-events-plugin.com//7.2.3.1//EN
TZID:America/New_York
X-WR-TIMEZONE:America/New_York
BEGIN:VEVENT
UID:1856@floridasportscards.com
DTSTART;TZID=America/New_York:20260221T160000
DTEND;TZID=America/New_York:20260221T180000
DTSTAMP:20260218T040806Z
URL:https://floridasportscards.com/events/topps-rip-night-trade-day-at-ben
 s-card-world-pensacola/
SUMMARY:Topps Rip Night/Trade Day at Ben's Card World - Pensacola
DESCRIPTION:\n\n\n\n\n\n\nThis Saturday 4-6\, 2026 Topps RIP Night. It's go
 ing to be BIG.\nHere are some of the prize we have so far.\n2025 FANATICS 
 UNDER WRAPS NFL FOOTBALL MINI HELMET BOX\n2026 GOLD RUSH AUTOGRAPHED BASEB
 ALL JERSEY SERIES 1 BOX\n2026 GOLD RUSH AUTOGRAPHED MINI HELMET FOOTBALL E
 DITION SERIES 1 BOX\n2025 WILDCARD HOLIDAY HITS MULTI SPORT PREMIUM AUTO E
 DITION HOBBY BOX\n2025 PANINI NIL UNIVERSITY OF TEXAS HOBBY BOX\n2026 TOPP
 S SERIES 1 BASEBALL FAT PACK\n2025 PANINI DONRUSS OPTIC FOOTBALL HOBBY MEG
 A BOX (RED HYPER)\n2025 TOPPS UFC STADIUM CLUB BLASTER BOX\n2025 PANINI SE
 LECT FOOTBALL HOBBY BLASTER BOX (GREEN &amp\; RED SHOCK)\n2024/25 TOPPS CH
 ROME BASKETBALL BLASTER BOX\n2025/26 TOPPS FLAGSHIP EDITION UEFA CLUB COMP
 ETITIONS HANGER BOX\n2025 TOPPS CHROME BASEBALL FANATICS EXCLUSIVE MEGA BO
 X\n2025 PANINI PRIZM FOOTBALL HOBBY MEGA BOX (PURPLE PULSAR)\nHere is a li
 nk to the event. https://www.facebook.com/events/1412219867005195\n\n\n\n\
 n\n\n
ATTACH;FMTTYPE=image/jpeg:https://floridasportscards.com/wp-content/upload
 s/2026/02/0221-Bens-Card-World.webp
CATEGORIES:In-Store Event
LOCATION:Ben's Card World\, 4771 Bayou Blvd\, Suite 6\, Pensacola\, FL\, 32
 503\, United States
X-APPLE-STRUCTURED-LOCATION;VALUE=URI;X-ADDRESS=4771 Bayou Blvd\, Suite 6\,
  Pensacola\, FL\, 32503\, United States;X-APPLE-RADIUS=100;X-TITLE=Ben's C
 ard World:geo:0,0
END:VEVENT
BEGIN:VTIMEZONE
TZID:America/New_York
X-LIC-LOCATION:America/New_York
BEGIN:STANDARD
DTSTART:20251102T010000
TZOFFSETFROM:-0400
TZOFFSETTO:-0500
TZNAME:EST
END:STANDARD
END:VTIMEZONE
END:VCALENDAR