BEGIN:VCALENDAR
VERSION:2.0
PRODID:-//wp-events-plugin.com//7.2.3.1//EN
TZID:America/New_York
X-WR-TIMEZONE:America/New_York
BEGIN:VEVENT
UID:2023@floridasportscards.com
DTSTART;TZID=America/New_York:20260330T170000
DTEND;TZID=America/New_York:20260330T170000
DTSTAMP:20260326T220706Z
URL:https://floridasportscards.com/events/trade-night-at-collectors-club-m
 iami/
SUMMARY:Trade Night at Collector's Club - Miami
DESCRIPTION:
ATTACH;FMTTYPE=image/jpeg:https://floridasportscards.com/wp-content/upload
 s/2026/03/0330-Collectors-Club.webp
CATEGORIES:In-Store Event
LOCATION:Collectors Club\, 2812 NW 2nd Ave\, Miami\, FL\, 33127\, United St
 ates
X-APPLE-STRUCTURED-LOCATION;VALUE=URI;X-ADDRESS=2812 NW 2nd Ave\, Miami\, F
 L\, 33127\, United States;X-APPLE-RADIUS=100;X-TITLE=Collectors Club:geo:0
 ,0
END:VEVENT
BEGIN:VTIMEZONE
TZID:America/New_York
X-LIC-LOCATION:America/New_York
BEGIN:DAYLIGHT
DTSTART:20260308T030000
TZOFFSETFROM:-0500
TZOFFSETTO:-0400
TZNAME:EDT
END:DAYLIGHT
END:VTIMEZONE
END:VCALENDAR