BEGIN:VCALENDAR
VERSION:2.0
PRODID:-//wp-events-plugin.com//7.2.3.1//EN
TZID:America/New_York
X-WR-TIMEZONE:America/New_York
BEGIN:VEVENT
UID:1870@floridasportscards.com
DTSTART;TZID=America/New_York:20260228T180000
DTEND;TZID=America/New_York:20260228T200000
DTSTAMP:20260224T032747Z
URL:https://floridasportscards.com/events/trade-night-at-flo-go-shop-lakel
 and/
SUMMARY:Trade Night at Flo-Go Shop - Lakeland
DESCRIPTION:
ATTACH;FMTTYPE=image/jpeg:https://floridasportscards.com/wp-content/upload
 s/2026/02/0228-FloGo.webp
CATEGORIES:In-Store Event
LOCATION:The Flo Go Shop\, 2254 E Edgewood Dr\, Lakeland\, FL\, United Stat
 es
X-APPLE-STRUCTURED-LOCATION;VALUE=URI;X-ADDRESS=2254 E Edgewood Dr\, Lakela
 nd\, FL\, United States;X-APPLE-RADIUS=100;X-TITLE=The Flo Go Shop:geo:0,0
END:VEVENT
BEGIN:VTIMEZONE
TZID:America/New_York
X-LIC-LOCATION:America/New_York
BEGIN:STANDARD
DTSTART:20251102T010000
TZOFFSETFROM:-0400
TZOFFSETTO:-0500
TZNAME:EST
END:STANDARD
END:VTIMEZONE
END:VCALENDAR