BEGIN:VCALENDAR
VERSION:2.0
PRODID:-//wp-events-plugin.com//7.2.3.1//EN
TZID:America/New_York
X-WR-TIMEZONE:America/New_York
BEGIN:VEVENT
UID:2024@floridasportscards.com
DTSTART;TZID=America/New_York:20260328T160000
DTEND;TZID=America/New_York:20260328T160000
DTSTAMP:20260326T222001Z
URL:https://floridasportscards.com/events/trade-night-at-game-time-cardz-w
 inter-park/
SUMMARY:Trade Night at Game Time Cardz - Winter Park
DESCRIPTION:
ATTACH;FMTTYPE=image/jpeg:https://floridasportscards.com/wp-content/upload
 s/2026/03/0328-Game-Time.webp
CATEGORIES:In-Store Event
LOCATION:Game Time Cardz\, 7414 University Blvd\, Suite 112\, Winter Park\,
  FL\, 32792\, United States
X-APPLE-STRUCTURED-LOCATION;VALUE=URI;X-ADDRESS=7414 University Blvd\, Suit
 e 112\, Winter Park\, FL\, 32792\, United States;X-APPLE-RADIUS=100;X-TITL
 E=Game Time Cardz:geo:0,0
END:VEVENT
BEGIN:VTIMEZONE
TZID:America/New_York
X-LIC-LOCATION:America/New_York
BEGIN:DAYLIGHT
DTSTART:20260308T030000
TZOFFSETFROM:-0500
TZOFFSETTO:-0400
TZNAME:EDT
END:DAYLIGHT
END:VTIMEZONE
END:VCALENDAR