BEGIN:VCALENDAR
VERSION:2.0
PRODID:-//wp-events-plugin.com//7.2.3.1//EN
TZID:America/New_York
X-WR-TIMEZONE:America/New_York
BEGIN:VEVENT
UID:1723@floridasportscards.com
DTSTART;TZID=America/New_York:20260124T180000
DTEND;TZID=America/New_York:20260124T210000
DTSTAMP:20260113T044331Z
URL:https://floridasportscards.com/events/trade-night-at-replay-sports-car
 ds-boca-raton/
SUMMARY:Trade Night at Replay Sports Cards - Boca Raton
DESCRIPTION:
ATTACH;FMTTYPE=image/jpeg:https://floridasportscards.com/wp-content/upload
 s/2026/01/0124-Replay-Trade-Night.webp
CATEGORIES:In-Store Event
LOCATION:Replay Sports Cards - Boca Raton\, 100 Plaza Real S G\, Boca Raton
 \, FL\, 33432\, United States
X-APPLE-STRUCTURED-LOCATION;VALUE=URI;X-ADDRESS=100 Plaza Real S G\, Boca R
 aton\, FL\, 33432\, United States;X-APPLE-RADIUS=100;X-TITLE=Replay Sports
  Cards - Boca Raton:geo:0,0
END:VEVENT
BEGIN:VTIMEZONE
TZID:America/New_York
X-LIC-LOCATION:America/New_York
BEGIN:STANDARD
DTSTART:20251102T010000
TZOFFSETFROM:-0400
TZOFFSETTO:-0500
TZNAME:EST
END:STANDARD
END:VTIMEZONE
END:VCALENDAR