BEGIN:VCALENDAR
VERSION:2.0
PRODID:-//wp-events-plugin.com//7.2.3.1//EN
TZID:America/New_York
X-WR-TIMEZONE:America/New_York
BEGIN:VEVENT
UID:1852@floridasportscards.com
DTSTART;TZID=America/New_York:20260228T170000
DTEND;TZID=America/New_York:20260228T200000
DTSTAMP:20260217T034037Z
URL:https://floridasportscards.com/events/trade-night-at-scgc-sports-cards
 -tampa-5/
SUMMARY:Trade Night at SCGC Sports Cards - Tampa
DESCRIPTION:Trade Night at SCGC Sports Cards in Tampa
ATTACH;FMTTYPE=image/jpeg:https://floridasportscards.com/wp-content/upload
 s/2026/02/0228-SCGC-Trade-Night.webp
CATEGORIES:In-Store Event
LOCATION:SCGC Sports Cards\, 9280 Bay Plaza Blvd\, #716\, Tampa\, FL\, 3361
 9\, United States
X-APPLE-STRUCTURED-LOCATION;VALUE=URI;X-ADDRESS=9280 Bay Plaza Blvd\, #716\
 , Tampa\, FL\, 33619\, United States;X-APPLE-RADIUS=100;X-TITLE=SCGC Sport
 s Cards:geo:0,0
END:VEVENT
BEGIN:VTIMEZONE
TZID:America/New_York
X-LIC-LOCATION:America/New_York
BEGIN:STANDARD
DTSTART:20251102T010000
TZOFFSETFROM:-0400
TZOFFSETTO:-0500
TZNAME:EST
END:STANDARD
END:VTIMEZONE
END:VCALENDAR