BEGIN:VCALENDAR
VERSION:2.0
PRODID:-//wp-events-plugin.com//7.2.3.1//EN
TZID:America/New_York
X-WR-TIMEZONE:America/New_York
BEGIN:VEVENT
UID:1874@floridasportscards.com
DTSTART;TZID=America/New_York:20260314T170000
DTEND;TZID=America/New_York:20260314T200000
DTSTAMP:20260303T030533Z
URL:https://floridasportscards.com/events/trade-night-at-scgc-sports-cards
 -tampa/
SUMMARY:Trade Night at SCGC Sports Cards - Tampa
DESCRIPTION:Trade Night at SCGC Sports Cards
ATTACH;FMTTYPE=image/jpeg:https://floridasportscards.com/wp-content/upload
 s/2026/03/03-14-SCGC-Trade-Night.webp
CATEGORIES:In-Store Event
LOCATION:SCGC Sports Cards\, 9280 Bay Plaza Blvd\, #716\, Tampa\, FL\, 3361
 9\, United States
X-APPLE-STRUCTURED-LOCATION;VALUE=URI;X-ADDRESS=9280 Bay Plaza Blvd\, #716\
 , Tampa\, FL\, 33619\, United States;X-APPLE-RADIUS=100;X-TITLE=SCGC Sport
 s Cards:geo:0,0
END:VEVENT
BEGIN:VTIMEZONE
TZID:America/New_York
X-LIC-LOCATION:America/New_York
BEGIN:DAYLIGHT
DTSTART:20260308T030000
TZOFFSETFROM:-0500
TZOFFSETTO:-0400
TZNAME:EDT
END:DAYLIGHT
END:VTIMEZONE
END:VCALENDAR