BEGIN:VCALENDAR
VERSION:2.0
PRODID:-//wp-events-plugin.com//7.2.3.1//EN
TZID:America/New_York
X-WR-TIMEZONE:America/New_York
BEGIN:VEVENT
UID:1574@floridasportscards.com
DTSTART;TZID=America/New_York:20260130T180000
DTEND;TZID=America/New_York:20260130T210000
DTSTAMP:20260105T000314Z
URL:https://floridasportscards.com/events/trade-night-at-tallahassee-sport
 s-cards-tallahassee/
SUMMARY:Trade Night at Tallahassee Sports Cards - Tallahassee
DESCRIPTION:
ATTACH;FMTTYPE=image/jpeg:https://floridasportscards.com/wp-content/upload
 s/2026/01/0130-Tallahassee-Sports-Cards-trade-night.webp
CATEGORIES:In-Store Event
LOCATION:Tallahassee Sports Cards\, 400 Capital Cir SE\, Tallahassee\, FL\,
  United States
X-APPLE-STRUCTURED-LOCATION;VALUE=URI;X-ADDRESS=400 Capital Cir SE\, Tallah
 assee\, FL\, United States;X-APPLE-RADIUS=100;X-TITLE=Tallahassee Sports C
 ards:geo:0,0
END:VEVENT
BEGIN:VTIMEZONE
TZID:America/New_York
X-LIC-LOCATION:America/New_York
BEGIN:STANDARD
DTSTART:20251102T010000
TZOFFSETFROM:-0400
TZOFFSETTO:-0500
TZNAME:EST
END:STANDARD
END:VTIMEZONE
END:VCALENDAR