BEGIN:VCALENDAR
VERSION:2.0
PRODID:-//wp-events-plugin.com//7.2.3.1//EN
TZID:America/New_York
X-WR-TIMEZONE:America/New_York
BEGIN:VEVENT
UID:2025@floridasportscards.com
DTSTART;TZID=America/New_York:20260327T170000
DTEND;TZID=America/New_York:20260327T210000
DTSTAMP:20260327T174114Z
URL:https://floridasportscards.com/events/trade-night-at-tombstone-collect
 ibles-miami/
SUMMARY:Trade Night at Tombstone Collectibles - Miami
DESCRIPTION:
ATTACH;FMTTYPE=image/jpeg:https://floridasportscards.com/wp-content/upload
 s/2026/03/0327-Tombstone.webp
CATEGORIES:In-Store Event
LOCATION:Tombstone Collectibles\, 2770 SW 27th Ave Suite 3\, Miami\, FL\, 3
 3133\, United States
X-APPLE-STRUCTURED-LOCATION;VALUE=URI;X-ADDRESS=2770 SW 27th Ave Suite 3\, 
 Miami\, FL\, 33133\, United States;X-APPLE-RADIUS=100;X-TITLE=Tombstone Co
 llectibles:geo:0,0
END:VEVENT
BEGIN:VTIMEZONE
TZID:America/New_York
X-LIC-LOCATION:America/New_York
BEGIN:DAYLIGHT
DTSTART:20260308T030000
TZOFFSETFROM:-0500
TZOFFSETTO:-0400
TZNAME:EDT
END:DAYLIGHT
END:VTIMEZONE
END:VCALENDAR