BEGIN:VCALENDAR
VERSION:2.0
PRODID:-//wp-events-plugin.com//7.2.3.1//EN
TZID:America/New_York
X-WR-TIMEZONE:America/New_York
BEGIN:VEVENT
UID:1646@floridasportscards.com
DTSTART;TZID=America/New_York:20260424T190000
DTEND;TZID=America/New_York:20260424T210000
DTSTAMP:20260408T015244Z
URL:https://floridasportscards.com/events/trade-night-pack-wars-at-basebal
 l-card-clubhouse-tampa-2026-04-24/
SUMMARY:Pack Wars at Baseball Card Clubhouse - Tampa
DESCRIPTION:Trade Night now falls on the last Friday of each month. Trade N
 ight is 6-9pm and Pack Wars is 7:30-8:30pm. Both events are on the same ni
 ght! 
ATTACH;FMTTYPE=image/jpeg:https://floridasportscards.com/wp-content/upload
 s/2026/01/Baseball-Card-Clubhouse-Pack-Wars.webp
CATEGORIES:In-Store Event
LOCATION:Baseball Card Clubhouse\, 2225 S Dale Mabry Hwy\, Tampa\, FL\, Uni
 ted States
X-APPLE-STRUCTURED-LOCATION;VALUE=URI;X-ADDRESS=2225 S Dale Mabry Hwy\, Tam
 pa\, FL\, United States;X-APPLE-RADIUS=100;X-TITLE=Baseball Card Clubhouse
 :geo:0,0
END:VEVENT
BEGIN:VTIMEZONE
TZID:America/New_York
X-LIC-LOCATION:America/New_York
BEGIN:DAYLIGHT
DTSTART:20260308T030000
TZOFFSETFROM:-0500
TZOFFSETTO:-0400
TZNAME:EDT
END:DAYLIGHT
END:VTIMEZONE
END:VCALENDAR