BEGIN:VCALENDAR
VERSION:2.0
PRODID:-//wp-events-plugin.com//7.2.3.1//EN
TZID:America/New_York
X-WR-TIMEZONE:America/New_York
BEGIN:VEVENT
UID:1864@floridasportscards.com
DTSTART;TZID=America/New_York:20260308T100000
DTEND;TZID=America/New_York:20260308T180000
DTSTAMP:20260219T231359Z
URL:https://floridasportscards.com/events/trading-card-con-miami-2026-03-0
 6-2026-03-07-2026-03-08/
SUMMARY:Trading Card Con - Miami
DESCRIPTION:
ATTACH;FMTTYPE=image/jpeg:https://floridasportscards.com/wp-content/upload
 s/2026/02/0306-0308-Trade-Con.webp
CATEGORIES:Card Shows
LOCATION:Doubletree Miami Airport\, 711 NW 72nd Ave\, Miami \, FL\, 33126\,
  United States
X-APPLE-STRUCTURED-LOCATION;VALUE=URI;X-ADDRESS=711 NW 72nd Ave\, Miami \, 
 FL\, 33126\, United States;X-APPLE-RADIUS=100;X-TITLE=Doubletree Miami Air
 port:geo:0,0
END:VEVENT
BEGIN:VTIMEZONE
TZID:America/New_York
X-LIC-LOCATION:America/New_York
BEGIN:DAYLIGHT
DTSTART:20260308T030000
TZOFFSETFROM:-0500
TZOFFSETTO:-0400
TZNAME:EDT
END:DAYLIGHT
END:VTIMEZONE
END:VCALENDAR