BEGIN:VCALENDAR
VERSION:2.0
PRODID:-//wp-events-plugin.com//7.2.3.1//EN
TZID:America/New_York
X-WR-TIMEZONE:America/New_York
BEGIN:VEVENT
UID:1767@floridasportscards.com
DTSTART;TZID=America/New_York:20260314T110000
DTEND;TZID=America/New_York:20260314T180000
DTSTAMP:20260309T175043Z
URL:https://floridasportscards.com/events/trading-card-megafest-explosion-
 hollywood-2026-03-14/
SUMMARY:Trading Card Megafest Explosion - Hollywood
DESCRIPTION:Trading Card Megafest Explosion at the Seminole Hard Rock Hotel
  & Casino in Hollywood\, FL
ATTACH;FMTTYPE=image/jpeg:https://floridasportscards.com/wp-content/upload
 s/2026/01/0314-0315-Trading-Card-Mega-Fest-Explosion.webp
CATEGORIES:Card Shows
LOCATION:Seminole Hard Rock Hotel & Casino\, 1 Seminole Way\, Hollywood\, F
 L\, 33314\, United States
X-APPLE-STRUCTURED-LOCATION;VALUE=URI;X-ADDRESS=1 Seminole Way\, Hollywood\
 , FL\, 33314\, United States;X-APPLE-RADIUS=100;X-TITLE=Seminole Hard Rock
  Hotel & Casino:geo:0,0
END:VEVENT
BEGIN:VTIMEZONE
TZID:America/New_York
X-LIC-LOCATION:America/New_York
BEGIN:DAYLIGHT
DTSTART:20260308T030000
TZOFFSETFROM:-0500
TZOFFSETTO:-0400
TZNAME:EDT
END:DAYLIGHT
END:VTIMEZONE
END:VCALENDAR