BEGIN:VCALENDAR
VERSION:2.0
PRODID:-//wp-events-plugin.com//7.2.3.1//EN
TZID:America/New_York
X-WR-TIMEZONE:America/New_York
BEGIN:VEVENT
UID:1557@floridasportscards.com
DTSTART;TZID=America/New_York:20260124T100000
DTEND;TZID=America/New_York:20260124T170000
DTSTAMP:20251230T034717Z
URL:https://floridasportscards.com/events/tropi-con-cards-collectibles-sho
 w-miami/
SUMMARY:Tropi-Con Cards & Collectibles Show - Miami
DESCRIPTION:
ATTACH;FMTTYPE=image/jpeg:https://floridasportscards.com/wp-content/upload
 s/2025/12/0124-Tropic-con.webp
CATEGORIES:Card Shows
LOCATION:Tropical Park\, 7900 SW 40th St\, Miami\, FL\, 33155\, United Stat
 es
X-APPLE-STRUCTURED-LOCATION;VALUE=URI;X-ADDRESS=7900 SW 40th St\, Miami\, F
 L\, 33155\, United States;X-APPLE-RADIUS=100;X-TITLE=Tropical Park:geo:0,0
END:VEVENT
BEGIN:VTIMEZONE
TZID:America/New_York
X-LIC-LOCATION:America/New_York
BEGIN:STANDARD
DTSTART:20251102T010000
TZOFFSETFROM:-0400
TZOFFSETTO:-0500
TZNAME:EST
END:STANDARD
END:VTIMEZONE
END:VCALENDAR