BEGIN:VCALENDAR
VERSION:2.0
PRODID:-//wp-events-plugin.com//7.2.3.1//EN
TZID:America/New_York
X-WR-TIMEZONE:America/New_York
BEGIN:VEVENT
UID:1803@floridasportscards.com
DTSTART;TZID=America/New_York:20260207T100000
DTEND;TZID=America/New_York:20260207T160000
DTSTAMP:20260204T033051Z
URL:https://floridasportscards.com/events/ultimate-banger-card-show-altamo
 nte-springs-2-2026-02-07/
SUMMARY:Ultimate Banger Card Show - Altamonte Springs
DESCRIPTION:
ATTACH;FMTTYPE=image/jpeg:https://floridasportscards.com/wp-content/upload
 s/2026/02/07-08-Ultimate-Banger.webp
CATEGORIES:Card Shows
LOCATION:Lake Brantley High School\, 991 Sand Lake Rd\, Altamonte Springs\,
  FL\, 32714\, United States
X-APPLE-STRUCTURED-LOCATION;VALUE=URI;X-ADDRESS=991 Sand Lake Rd\, Altamont
 e Springs\, FL\, 32714\, United States;X-APPLE-RADIUS=100;X-TITLE=Lake Bra
 ntley High School:geo:0,0
END:VEVENT
BEGIN:VTIMEZONE
TZID:America/New_York
X-LIC-LOCATION:America/New_York
BEGIN:STANDARD
DTSTART:20251102T010000
TZOFFSETFROM:-0400
TZOFFSETTO:-0500
TZNAME:EST
END:STANDARD
END:VTIMEZONE
END:VCALENDAR