BEGIN:VCALENDAR
VERSION:2.0
PRODID:-//wp-events-plugin.com//7.2.3.1//EN
TZID:America/New_York
X-WR-TIMEZONE:America/New_York
BEGIN:VEVENT
UID:1012@floridasportscards.com
DTSTART;TZID=America/New_York:20260123T130000
DTEND;TZID=America/New_York:20260123T190000
DTSTAMP:20260113T034724Z
URL:https://floridasportscards.com/events/ultimatecon-daytona-2026-01-23/
SUMMARY:UltimateCon - Daytona
DESCRIPTION:
ATTACH;FMTTYPE=image/jpeg:https://floridasportscards.com/wp-content/upload
 s/2025/05/0123-25-Ultimate-Con.webp
CATEGORIES:Card Shows
LOCATION:Ocean Center\, 101 N Atlantic Ave\, Daytona Beach\, FL\, 32118\, U
 nited States
X-APPLE-STRUCTURED-LOCATION;VALUE=URI;X-ADDRESS=101 N Atlantic Ave\, Dayton
 a Beach\, FL\, 32118\, United States;X-APPLE-RADIUS=100;X-TITLE=Ocean Cent
 er:geo:0,0
END:VEVENT
BEGIN:VTIMEZONE
TZID:America/New_York
X-LIC-LOCATION:America/New_York
BEGIN:STANDARD
DTSTART:20251102T010000
TZOFFSETFROM:-0400
TZOFFSETTO:-0500
TZNAME:EST
END:STANDARD
END:VTIMEZONE
END:VCALENDAR