BEGIN:VCALENDAR
VERSION:2.0
PRODID:-//wp-events-plugin.com//7.2.3.1//EN
TZID:America/New_York
X-WR-TIMEZONE:America/New_York
BEGIN:VEVENT
UID:1260@floridasportscards.com
DTSTART;TZID=America/New_York:20260228T100000
DTEND;TZID=America/New_York:20260228T150000
DTSTAMP:20251001T023815Z
URL:https://floridasportscards.com/events/vero-beach-card-show-vero-beach-
 2/
SUMMARY:Vero Beach Card Show - Vero Beach
DESCRIPTION:
ATTACH;FMTTYPE=image/jpeg:https://floridasportscards.com/wp-content/upload
 s/2025/09/Vero-Beach-2026.jpg
CATEGORIES:Card Shows
LOCATION:Indian River Mall\, 6200 20th St\, Vero Beach\, FL\, 32966\, Unite
 d States
X-APPLE-STRUCTURED-LOCATION;VALUE=URI;X-ADDRESS=6200 20th St\, Vero Beach\,
  FL\, 32966\, United States;X-APPLE-RADIUS=100;X-TITLE=Indian River Mall:g
 eo:0,0
END:VEVENT
BEGIN:VTIMEZONE
TZID:America/New_York
X-LIC-LOCATION:America/New_York
BEGIN:STANDARD
DTSTART:20251102T010000
TZOFFSETFROM:-0400
TZOFFSETTO:-0500
TZNAME:EST
END:STANDARD
END:VTIMEZONE
END:VCALENDAR