BEGIN:VCALENDAR
VERSION:2.0
PRODID:-//wp-events-plugin.com//7.2.3.1//EN
TZID:America/New_York
X-WR-TIMEZONE:America/New_York
BEGIN:VEVENT
UID:1262@floridasportscards.com
DTSTART;TZID=America/New_York:20260425T100000
DTEND;TZID=America/New_York:20260425T150000
DTSTAMP:20260311T041822Z
URL:https://floridasportscards.com/events/vero-beach-card-show-vero-beach-
 4/
SUMMARY:Vero Beach Card Show - Vero Beach
DESCRIPTION:
ATTACH;FMTTYPE=image/jpeg:https://floridasportscards.com/wp-content/upload
 s/2025/09/0425-Vero-Beach.webp
CATEGORIES:Card Shows
LOCATION:Jackie Robinson Training Complex\, 3901 26th St\, Vero Beach\, FL\
 , 
X-APPLE-STRUCTURED-LOCATION;VALUE=URI;X-ADDRESS=3901 26th St\, Vero Beach\,
  FL\, ;X-APPLE-RADIUS=100;X-TITLE=Jackie Robinson Training Complex:geo:0,0
END:VEVENT
BEGIN:VTIMEZONE
TZID:America/New_York
X-LIC-LOCATION:America/New_York
BEGIN:DAYLIGHT
DTSTART:20260308T030000
TZOFFSETFROM:-0500
TZOFFSETTO:-0400
TZNAME:EDT
END:DAYLIGHT
END:VTIMEZONE
END:VCALENDAR