BEGIN:VCALENDAR
VERSION:2.0
PRODID:-//wp-events-plugin.com//7.2.3.1//EN
TZID:America/New_York
X-WR-TIMEZONE:America/New_York
BEGIN:VEVENT
UID:1499@floridasportscards.com
DTSTART;TZID=America/New_York:20260103T120000
DTEND;TZID=America/New_York:20260103T180000
DTSTAMP:20260102T042013Z
URL:https://floridasportscards.com/events/wellington-new-year-sports-and-t
 rading-card-show-wellington/
SUMMARY:Wellington New Year Sports and Trading Card Show - Wellington
DESCRIPTION:
ATTACH;FMTTYPE=image/jpeg:https://floridasportscards.com/wp-content/upload
 s/2025/12/0103-Wellington.jpg
CATEGORIES:Card Shows
LOCATION:Wellington Community Center\, 12150 Forest Hill Blvd\, Wellington\
 , FL\, United States
X-APPLE-STRUCTURED-LOCATION;VALUE=URI;X-ADDRESS=12150 Forest Hill Blvd\, We
 llington\, FL\, United States;X-APPLE-RADIUS=100;X-TITLE=Wellington Commun
 ity Center:geo:0,0
END:VEVENT
BEGIN:VTIMEZONE
TZID:America/New_York
X-LIC-LOCATION:America/New_York
BEGIN:STANDARD
DTSTART:20251102T010000
TZOFFSETFROM:-0400
TZOFFSETTO:-0500
TZNAME:EST
END:STANDARD
END:VTIMEZONE
END:VCALENDAR