BEGIN:VCALENDAR
VERSION:2.0
PRODID:-//wp-events-plugin.com//7.2.3.1//EN
TZID:America/New_York
X-WR-TIMEZONE:America/New_York
BEGIN:VEVENT
UID:1826@floridasportscards.com
DTSTART;TZID=America/New_York:20260228T140000
DTEND;TZID=America/New_York:20260228T150000
DTSTAMP:20260208T034804Z
URL:https://floridasportscards.com/events/william-joseph-autograph-signing
 -west-palm-beach/
SUMMARY:William Joseph Autograph Signing - West Palm Beach
DESCRIPTION:
ATTACH;FMTTYPE=image/jpeg:https://floridasportscards.com/wp-content/upload
 s/2026/02/0228-William-Joseph-Autograph.webp
CATEGORIES:Autograph Signings
LOCATION:Palm Beach Convention Center\, 650 Okeechobee Blvd\, West Palm Bea
 ch\, FL\, 33401\, United States
X-APPLE-STRUCTURED-LOCATION;VALUE=URI;X-ADDRESS=650 Okeechobee Blvd\, West 
 Palm Beach\, FL\, 33401\, United States;X-APPLE-RADIUS=100;X-TITLE=Palm Be
 ach Convention Center:geo:0,0
END:VEVENT
BEGIN:VTIMEZONE
TZID:America/New_York
X-LIC-LOCATION:America/New_York
BEGIN:STANDARD
DTSTART:20251102T010000
TZOFFSETFROM:-0400
TZOFFSETTO:-0500
TZNAME:EST
END:STANDARD
END:VTIMEZONE
END:VCALENDAR